{"text_format":"3","workbook":"xlsx","n_sheets":1,"sheets":["2019年省级质量工程项目名单"],"not_rendered":{"external_links":1,"defined_names":2},"read":"whole","date_system":"1900"}

{"sheet":"2019年省级质量工程项目名单","index":0,"n_rows":36,"n_cols":12,"rows_kept":36,"merged":[[0,0,0,8]]}
["2019年安徽省质量工程立项项目名单"]
[3397,1064,"2019mooc482","大规模在线开放课程（MOOC）示范项目","新能源汽车技术（概论）","安徽交通职业技术学院","相象文",null,null,{"$f":"VLOOKUP(D2,[1]类别序号!B$1:F$65536,5,0)","v":15},3241,{"$f":"VLOOKUP(F2,[1]学校序号!B$1:C$65536,2,0)","v":66}]
[3398,1065,"2019mooc483","大规模在线开放课程（MOOC）示范项目","现代汽车维护技术","安徽交通职业技术学院","赵国珍",null,null,{"$f":"VLOOKUP(D3,[1]类别序号!B$1:F$65536,5,0)","v":15},3242,{"$f":"VLOOKUP(F3,[1]学校序号!B$1:C$65536,2,0)","v":66}]
[3399,1066,"2019mooc484","大规模在线开放课程（MOOC）示范项目","隧道工程试验检测技术","安徽交通职业技术学院","叶生",null,null,{"$f":"VLOOKUP(D4,[1]类别序号!B$1:F$65536,5,0)","v":15},3243,{"$f":"VLOOKUP(F4,[1]学校序号!B$1:C$65536,2,0)","v":66}]
[3400,1067,"2019mooc485","大规模在线开放课程（MOOC）示范项目","路面工程技术","安徽交通职业技术学院","王东",null,null,{"$f":"VLOOKUP(D5,[1]类别序号!B$1:F$65536,5,0)","v":15},3244,{"$f":"VLOOKUP(F5,[1]学校序号!B$1:C$65536,2,0)","v":66}]
[3401,1068,"2019mooc486","大规模在线开放课程（MOOC）示范项目","商务英语口语","安徽交通职业技术学院","吴红云",null,null,{"$f":"VLOOKUP(D6,[1]类别序号!B$1:F$65536,5,0)","v":15},3796,{"$f":"VLOOKUP(F6,[1]学校序号!B$1:C$65536,2,0)","v":66}]
[2696,1069,"2019dsgzs28","技术技能型大师工作室","杨爱喜技术技能型大师工作室","安徽交通职业技术学院","杨爱喜",null,null,{"$f":"VLOOKUP(D7,[1]类别序号!B$1:F$65536,5,0)","v":12},1621,{"$f":"VLOOKUP(F7,[1]学校序号!B$1:C$65536,2,0)","v":66}]
[2616,1070,"2019cxtd063","教师教学创新团队","汽车运用与维修专业群教师教学创新团队","安徽交通职业技术学院","梁洪波",null,null,{"$f":"VLOOKUP(D8,[1]类别序号!B$1:F$65536,5,0)","v":11},2491,{"$f":"VLOOKUP(F8,[1]学校序号!B$1:C$65536,2,0)","v":66}]
[2617,1071,"2019cxtd064","教师教学创新团队","公共体育教师教学创新团队","安徽交通职业技术学院","万一春",null,null,{"$f":"VLOOKUP(D9,[1]类别序号!B$1:F$65536,5,0)","v":11},2561,{"$f":"VLOOKUP(F9,[1]学校序号!B$1:C$65536,2,0)","v":66}]
[2618,1072,"2019cxtd065","教师教学创新团队","智能交通技术运用专业省级教师教学创新团队","安徽交通职业技术学院","段明华",null,null,{"$f":"VLOOKUP(D10,[1]类别序号!B$1:F$65536,5,0)","v":11},2562,{"$f":"VLOOKUP(F10,[1]学校序号!B$1:C$65536,2,0)","v":66}]
[2619,1073,"2019cxtd066","教师教学创新团队","桥梁工程教师教学创新团队","安徽交通职业技术学院","王雷",null,null,{"$f":"VLOOKUP(D11,[1]类别序号!B$1:F$65536,5,0)","v":11},2563,{"$f":"VLOOKUP(F11,[1]学校序号!B$1:C$65536,2,0)","v":66}]
[638,1074,"2019jtxx253","教坛新秀","方晶晶","安徽交通职业技术学院","方晶晶",null,null,{"$f":"VLOOKUP(D12,[1]类别序号!B$1:F$65536,5,0)","v":4},2302,{"$f":"VLOOKUP(F12,[1]学校序号!B$1:C$65536,2,0)","v":66}]
[639,1075,"2019jtxx254","教坛新秀","王晓飞","安徽交通职业技术学院","王晓飞",null,null,{"$f":"VLOOKUP(D13,[1]类别序号!B$1:F$65536,5,0)","v":4},2303,{"$f":"VLOOKUP(F13,[1]学校序号!B$1:C$65536,2,0)","v":66}]
[null,1076,"2019jxcgj581","教学成果奖","道路桥梁工程技术专业现代学徒制建设与推广","安徽交通职业技术学院","张国栋，王丰胜，王常才，\n董庆，娄霜，汪伟伟，肖玉德，\n王守胜，刘必胜，王东","一等奖"]
[null,1077,"2019jxcgj582","教学成果奖","基于慕课的国家精品在线开放课程资源建设的探索与实践","安徽交通职业技术学院","叶生，肖玉德，王常才，\n孙鹏轩，吴智慧，邹冰洁，\n方娇，王佳宾","二等奖"]
[null,1078,"2019jxcgj583","教学成果奖","大赛引领，技术创新，构建与“1+X ”证书制度相融合的汽车类专业人才培养新模式","安徽交通职业技术学院","刘灵芝，汤峰，相象文，\n黄智勇，杨柳青，阚萍","二等奖"]
[null,1079,"2019jxcgj584","教学成果奖","基于产教融合的专业课程教学团队建设创新研究与实践","安徽交通职业技术学院","刘超，王丰胜，吴玉，\n王东，王在高","三等奖"]
[null,1080,"2019jxcgj938","教学成果奖","俱乐部教学改革促进学院运动队发展建设研究","安徽交通职业技术学院","关道权，费晓艳，邓九斤，\n王超，孙璞子，曹李浩思，\n曹化平，万一春，王仕虎，\n李章芳","一等奖","转评"]
[null,1081,"2019jxcgj939","教学成果奖","“以赛为轴，导向创新”构建卓越应用型汽车智能网联技术人才培养机制","安徽交通职业技术学院","张翼，黄智勇，刘灵芝，\n杨柳青，汤峰，吕冬梅","一等奖","转评"]
[null,1082,"2019jxcgj940","教学成果奖","技能大赛驱动模式下的工程测量专业课教师教学变革与创新","安徽交通职业技术学院","杨锐，蒋学松，刘中平，\n梁洪波，纪凯","二等奖","转评"]
[null,1083,"2019jxcgj941","教学成果奖","轮机工程专业技能大赛融入教学实践初探","安徽交通职业技术学院","祖济胜，纪凯，李兰，周武红，\n刘小四，裴自来，桂春元","三等奖","转评"]
[1465,1084,"2019jyxm0697","教学研究项目","融合1+X证书制度的高职新能源汽车技术专业建设探索","安徽交通职业技术学院","程章","一般",null,{"$f":"VLOOKUP(D22,[1]类别序号!B$1:F$65536,5,0)","v":5},674,{"$f":"VLOOKUP(F22,[1]学校序号!B$1:C$65536,2,0)","v":66}]
[1466,1085,"2019jyxm0698","教学研究项目","安徽省职业教育集团运行机制研究","安徽交通职业技术学院","刘超","一般",null,{"$f":"VLOOKUP(D23,[1]类别序号!B$1:F$65536,5,0)","v":5},675,{"$f":"VLOOKUP(F23,[1]学校序号!B$1:C$65536,2,0)","v":66}]
[1467,1086,"2019jyxm0699","教学研究项目","基于产教融合的高职电子商务专业“三教”改革路径与实践","安徽交通职业技术学院","赵明","一般",null,{"$f":"VLOOKUP(D24,[1]类别序号!B$1:F$65536,5,0)","v":5},676,{"$f":"VLOOKUP(F24,[1]学校序号!B$1:C$65536,2,0)","v":66}]
[1468,1087,"2019jyxm0700","教学研究项目","基于OBE的汽车专业混合式教学质量评价体系研究","安徽交通职业技术学院","阚萍","一般",null,{"$f":"VLOOKUP(D25,[1]类别序号!B$1:F$65536,5,0)","v":5},677,{"$f":"VLOOKUP(F25,[1]学校序号!B$1:C$65536,2,0)","v":66}]
[1469,1088,"2019jyxm0701","教学研究项目","基层教学组织（教研室）标准化建设及示范标准创建","安徽交通职业技术学院","岳朝晖","重点",null,{"$f":"VLOOKUP(D26,[1]类别序号!B$1:F$65536,5,0)","v":5},1271,{"$f":"VLOOKUP(F26,[1]学校序号!B$1:C$65536,2,0)","v":66}]
[3753,1089,"2019kfkc245","精品线下开放课程","汽车维修业务接待","安徽交通职业技术学院","刘灵芝",null,null,{"$f":"VLOOKUP(D27,[1]类别序号!B$1:F$65536,5,0)","v":16},3797,{"$f":"VLOOKUP(F27,[1]学校序号!B$1:C$65536,2,0)","v":66}]
[3754,1090,"2019kfkc246","精品线下开放课程","国际贸易实务","安徽交通职业技术学院","胡勇",null,null,{"$f":"VLOOKUP(D28,[1]类别序号!B$1:F$65536,5,0)","v":16},3798,{"$f":"VLOOKUP(F28,[1]学校序号!B$1:C$65536,2,0)","v":66}]
[3755,1091,"2019kfkc247","精品线下开放课程","城市轨道交通专业群CAD技术","安徽交通职业技术学院","张方瑾",null,null,{"$f":"VLOOKUP(D29,[1]类别序号!B$1:F$65536,5,0)","v":16},3799,{"$f":"VLOOKUP(F29,[1]学校序号!B$1:C$65536,2,0)","v":66}]
[2209,1092,"2019szjy126","思想政治理论课教研项目","“立德树人”理念融入高校思想政治理论课程教学研究","安徽交通职业技术学院","承友明","重点",null,{"$f":"VLOOKUP(D30,[1]类别序号!B$1:F$65536,5,0)","v":6},2848,{"$f":"VLOOKUP(F30,[1]学校序号!B$1:C$65536,2,0)","v":66}]
[2533,1093,"2019zyk25","特色专业教学资源库项目","计算机网络技术专业教学资源库","安徽交通职业技术学院","刘旭光",null,null,{"$f":"VLOOKUP(D31,[1]类别序号!B$1:F$65536,5,0)","v":10},1580,{"$f":"VLOOKUP(F31,[1]学校序号!B$1:C$65536,2,0)","v":66}]
[2534,1094,"2019zyk26","特色专业教学资源库项目","公路机械化施工技术教学资源库","安徽交通职业技术学院","吴明华",null,null,{"$f":"VLOOKUP(D32,[1]类别序号!B$1:F$65536,5,0)","v":10},1581,{"$f":"VLOOKUP(F32,[1]学校序号!B$1:C$65536,2,0)","v":66}]
[2535,1095,"2019zyk27","特色专业教学资源库项目","土木工程检测技术专业教学资源库","安徽交通职业技术学院","王常才",null,null,{"$f":"VLOOKUP(D33,[1]类别序号!B$1:F$65536,5,0)","v":10},1582,{"$f":"VLOOKUP(F33,[1]学校序号!B$1:C$65536,2,0)","v":66}]
[2779,1096,"2019xqsxzx51","校企合作示范实训中心","安徽交通职业技术学院上汽大众示范实训中心","安徽交通职业技术学院","张翼",null,null,{"$f":"VLOOKUP(D34,[1]类别序号!B$1:F$65536,5,0)","v":13},1679,{"$f":"VLOOKUP(F34,[1]学校序号!B$1:C$65536,2,0)","v":66}]
[3953,1097,"2019xfzx12","虚拟仿真实训中心","机动车检测虚拟仿真实训中心","安徽交通职业技术学院","黄智勇",null,null,{"$f":"VLOOKUP(D35,[1]类别序号!B$1:F$65536,5,0)","v":18},3245,{"$f":"VLOOKUP(F35,[1]学校序号!B$1:C$65536,2,0)","v":66}]
[null,1098,"2019zdjg11","重大教育教学改革研究项目","高职院校专业课课程思政模型构建和实践路径研究","安徽交通职业技术学院","汤峰",null,"委托"]